BEGIN:VCALENDAR
VERSION:2.0
PRODID:-//AudioTheme 3.0.1
BEGIN:VEVENT
UID:urn:uuid:9fc291ab-ac9c-42f9-b76b-b645f240a23a
URL:https://musik.kristinakuenzel.de/shows/workshop-dudelsack-7/
DTSTART;VALUE=DATE:20220916
SUMMARY:Workshop Dudelsack
DESCRIPTION:Workshop Dudelsack  16.09.22 18:00 bis 18.09.22 ca. 12:00 Uhr  <a href="https://spielkurs-passau.de" target="_blank" rel="noopener noreferrer">www.spielkurs-passau.de</a>
LOCATION:Spielkurs Passau\, Veste Oberhaus Oberhaus 5\, Passau\, \, 94034
END:VEVENT
END:VCALENDAR
