BEGIN:VCALENDAR
VERSION:2.0
PRODID:-//AudioTheme 3.0.1
BEGIN:VEVENT
UID:urn:uuid:749cbaf9-f9ff-4015-817d-ac7f2ee019cc
URL:https://musik.kristinakuenzel.de/shows/workshop-dudelsack-6/
DTSTART;TZID=GMT:20221020T160000
SUMMARY:Workshop Dudelsack
DESCRIPTION:Workshop Dudelsack  20.10.22 18:00 bis 23.10.22 ca. 13:00 Uhr  <a href="https://www.tridragon.de" target="_blank" rel="noopener noreferrer">www.tridragon.de</a>
LOCATION:Rittergut Lützensömmern\, Kutzleben\, \, 99955
END:VEVENT
END:VCALENDAR
