BEGIN:VCALENDAR
VERSION:2.0
PRODID:-//AudioTheme 3.0.1
BEGIN:VEVENT
UID:urn:uuid:335a006c-7cd4-47de-9b12-66747c826d5c
URL:https://musik.kristinakuenzel.de/shows/solo-49/
DTSTART;TZID=GMT:20230621T151500
SUMMARY:Solo
DESCRIPTION:Solo   17:15 Uhr  im Rahmen von <a href="https://toesterkultur.de" target="_blank" rel="noopener noreferrer">toesterkultur.de</a> und der Fête de la Musique im Himmelsweg Atelier Karweck
LOCATION:Aterlier Karweck\, Himmelsweg 7\, Tostedt\, \, 21255
END:VEVENT
END:VCALENDAR
