BEGIN:VCALENDAR
VERSION:2.0
PRODID:-//AudioTheme 3.0.1
BEGIN:VEVENT
UID:urn:uuid:794a863a-d579-413e-9417-3b9bd5d26b60
URL:https://musik.kristinakuenzel.de/shows/solo-48/
DTSTART;TZID=GMT:20230528T170000
SUMMARY:Solo
DESCRIPTION:Solo  19:00 Uhr
LOCATION:Festival Meha\, Orlec\, Croatia\, Orlec\, Kroatien
END:VEVENT
END:VCALENDAR
