BEGIN:VCALENDAR
VERSION:2.0
PRODID:-//AudioTheme 3.0.1
BEGIN:VEVENT
UID:urn:uuid:335a006c-7cd4-47de-9b12-66747c826d5c
URL:https://musik.kristinakuenzel.de/shows/solo-36/
DTSTART;TZID=GMT:20220911T160000
SUMMARY:Solo
DESCRIPTION:Solo   20:00 Uhr  im Rahmen von <a href="https://toesterkultur.de" target="_blank" rel="noopener noreferrer">toesterkultur.de</a>
LOCATION:Katholische Kirche\, Poststraße 14\, Tostedt\, \, 21255
END:VEVENT
END:VCALENDAR
