BEGIN:VCALENDAR
VERSION:2.0
PRODID:-//AudioTheme 3.0.1
BEGIN:VEVENT
UID:urn:uuid:cfae2e25-0c69-4a22-94ba-1ee8105c27e3
URL:https://musik.kristinakuenzel.de/shows/solo-35/
DTSTART;TZID=GMT:20220515T100000
SUMMARY:Solo
DESCRIPTION:Solo  12:00 Uhr und 14:30 Uhr  <a href="https://toesterkultur.de" target="_blank" rel="noopener noreferrer">www.toesterkultur.de</a>
LOCATION:Haus am See\, Baggersee 2\, Todtglüsingen\, \, 21255
END:VEVENT
END:VCALENDAR
