BEGIN:VCALENDAR
VERSION:2.0
PRODID:-//AudioTheme 3.0.1
BEGIN:VEVENT
UID:urn:uuid:335a006c-7cd4-47de-9b12-66747c826d5c
URL:https://musik.kristinakuenzel.de/shows/solo-25/
DTSTART;TZID=GMT:20210606T090000
SUMMARY:Solo
DESCRIPTION:Solo - FÄLLT AUS  11:00 Uhr - bis 11:30 und 12:00 Uhr - 12:30 Uhr  <a href="https://www.bundesgartenschau.de/" target="_blank" rel="noopener noreferrer">bundesgartenschau.de</a>
LOCATION:Bundesgartenschau Kreativgarten\, Petersberg\, Erfurt\, \, 99084
END:VEVENT
END:VCALENDAR
