BEGIN:VCALENDAR
VERSION:2.0
PRODID:-//AudioTheme 3.0.1
BEGIN:VEVENT
UID:urn:uuid:335a006c-7cd4-47de-9b12-66747c826d5c
URL:https://musik.kristinakuenzel.de/shows/solo-24/
DTSTART;TZID=GMT:20210604T110000
SUMMARY:Solo
DESCRIPTION:Solo - FÄLLT AUS  13:00 Uhr - bis 13:30 und 14:30 Uhr - 15:00 Uhr  <a href="https://www.bundesgartenschau.de/" target="_blank" rel="noopener noreferrer">bundesgartenschau.de</a>
LOCATION:Bundesgartenschau ega-Park\, Gothaer Str. 38\, Erfurt\, \, 99094
END:VEVENT
END:VCALENDAR
