BEGIN:VCALENDAR
VERSION:2.0
PRODID:-//AudioTheme 3.0.1
BEGIN:VEVENT
UID:urn:uuid:335a006c-7cd4-47de-9b12-66747c826d5c
URL:https://musik.kristinakuenzel.de/shows/solo-2/
DTSTART;TZID=GMT:20200503T130000
SUMMARY:Tuunstohlen
DESCRIPTION:Tuunstohlen - ABGESAGT  Uhrzeit folgt
LOCATION:Heidekultour\, Dorfstraße 5\, Groß Todtshorn\, \, 21259
END:VEVENT
END:VCALENDAR
