BEGIN:VCALENDAR
VERSION:2.0
PRODID:-//AudioTheme 3.0.1
BEGIN:VEVENT
UID:urn:uuid:335a006c-7cd4-47de-9b12-66747c826d5c
URL:https://musik.kristinakuenzel.de/shows/solo-19/
DTSTART;TZID=GMT:20200722T170000
SUMMARY:Solo
DESCRIPTION:Solo   19:00 Uhr  <a href="https://streammax.de" target="_blank" rel="noopener noreferrer">streammax.de</a>
LOCATION:Online\, Online Livestream\, 
END:VEVENT
END:VCALENDAR
