BEGIN:VCALENDAR
VERSION:2.0
PRODID:-//AudioTheme 3.0.1
BEGIN:VEVENT
UID:urn:uuid:15f99944-b437-4339-be3b-3d26202a9e39
URL:https://musik.kristinakuenzel.de/shows/silja-58/
DTSTART;TZID=GMT:20261030T190000
SUMMARY:Silja
DESCRIPTION:Silja  <a href="https://kulturverein-gifhorn.com/events/silja-tradtuur/" target="_blank" rel="noopener noreferrer">Kulturverein Gifhorn</a>
LOCATION:Schloss Gifhorn\, Schlossplatz 1\, Gifhorn\, \, 38518
END:VEVENT
END:VCALENDAR
