BEGIN:VCALENDAR
VERSION:2.0
PRODID:-//AudioTheme 3.0.1
BEGIN:VEVENT
UID:urn:uuid:15f99944-b437-4339-be3b-3d26202a9e39
URL:https://musik.kristinakuenzel.de/shows/silja-57/
DTSTART;TZID=GMT:20261011T150000
SUMMARY:Silja
DESCRIPTION:Silja  <a href="https://www.kirche-harpstedt.de" target="_blank" rel="noopener noreferrer">Kirche Harpstedt</a>
LOCATION:Kirche Harpstedt\, I. Kirchstraße 2\, Harpstedt\, \, 27243
END:VEVENT
END:VCALENDAR
