BEGIN:VCALENDAR
VERSION:2.0
PRODID:-//AudioTheme 3.0.1
BEGIN:VEVENT
UID:urn:uuid:15f99944-b437-4339-be3b-3d26202a9e39
URL:https://musik.kristinakuenzel.de/shows/silja-56/
DTSTART;TZID=GMT:20261010T170000
SUMMARY:Silja
DESCRIPTION:Silja  <a href="https://www.kirche-handeloh.de" target="_blank" rel="noopener noreferrer">Kirche Handeloh</a>
LOCATION:Nikodemuskirche Handeloh\, Kirchenstraße 9\, Handeloh\, \, 21256
END:VEVENT
END:VCALENDAR
