BEGIN:VCALENDAR
VERSION:2.0
PRODID:-//AudioTheme 3.0.1
BEGIN:VEVENT
UID:urn:uuid:736de09e-6024-4cdf-b1c2-ecc43429706c
URL:https://musik.kristinakuenzel.de/shows/silja-20/
DTSTART;TZID=GMT:20210827T180000
SUMMARY:Silja
DESCRIPTION:Silja   20:00 Uhr  <a href="http://www.kbh-marne.de" target="_blank" rel="noopener noreferrer">www.kbh-marne.de</a>
LOCATION:Kultur- und Bürgerhaus Marne\, Schillerstraße 11\, Marne\, \, 25709
END:VEVENT
END:VCALENDAR
