BEGIN:VCALENDAR
VERSION:2.0
PRODID:-//AudioTheme 3.0.1
BEGIN:VEVENT
UID:urn:uuid:736de09e-6024-4cdf-b1c2-ecc43429706c
URL:https://musik.kristinakuenzel.de/shows/silja-19/
DTSTART;TZID=GMT:20210528T170000
SUMMARY:Silja
DESCRIPTION:Silja - FÄLLT AUS  19:00 Uhr  <a href="http://film-bendestorf.de/termine/" target="_blank" rel="noopener noreferrer">film-bendestorf.de</a>
LOCATION:Filmmuseum Bendestorf\, Am Schierenberg 2\, Bendestorf\, \, 21227
END:VEVENT
END:VCALENDAR
