BEGIN:VCALENDAR
VERSION:2.0
PRODID:-//AudioTheme 3.0.1
BEGIN:VEVENT
UID:urn:uuid:749cbaf9-f9ff-4015-817d-ac7f2ee019cc
URL:https://musik.kristinakuenzel.de/shows/satolstelamanderfanz/
DTSTART;VALUE=DATE:20240428
SUMMARY:Satolstelamanderfanz
DESCRIPTION:Satolstelamanderfanz   26.04.24 bis 28.04.24  <a href="https://anno-events.de/anno-1250-muehleninsel-venne/" target="_blank" rel="noopener noreferrer">Anno 1290</a>
LOCATION:Venner Mühleninsel\, Osnabrücker Str. 4\, Ostercappeln\, \, 49179
END:VEVENT
END:VCALENDAR
