BEGIN:VCALENDAR
VERSION:2.0
PRODID:-//AudioTheme 3.0.1
BEGIN:VEVENT
UID:urn:uuid:749cbaf9-f9ff-4015-817d-ac7f2ee019cc
URL:https://musik.kristinakuenzel.de/shows/satolstelamanderfanz-82/
DTSTART;VALUE=DATE:20260621
SUMMARY:Satolstelamanderfanz
DESCRIPTION:Satolstelamanderfanz   20.06.26 bis 21.06.26  <a href="https://www.fogelvrei.de" target="_blank" rel="noopener noreferrer">Fogelvrei</a>
LOCATION:Katzenelnbogener Ritterspiele\, Katzenelnbogen\, \, 56368
END:VEVENT
END:VCALENDAR
