BEGIN:VCALENDAR
VERSION:2.0
PRODID:-//AudioTheme 3.0.1
BEGIN:VEVENT
UID:urn:uuid:749cbaf9-f9ff-4015-817d-ac7f2ee019cc
URL:https://musik.kristinakuenzel.de/shows/satolstelamanderfanz-74/
DTSTART;VALUE=DATE:20261003
SUMMARY:Satolstelamanderfanz
DESCRIPTION:Satolstelamanderfanz   02.10.26 bis 04.10.26  <a href="https://www.kaiserottofest.de" target="_blank" rel="noopener noreferrer">Kaiser-Otto-Fest</a>  
LOCATION:Kaiser-Otto-Fest\, Magdeburg\, \, 39104
END:VEVENT
END:VCALENDAR
