BEGIN:VCALENDAR
VERSION:2.0
PRODID:-//AudioTheme 3.0.1
BEGIN:VEVENT
UID:urn:uuid:749cbaf9-f9ff-4015-817d-ac7f2ee019cc
URL:https://musik.kristinakuenzel.de/shows/satolstelamanderfanz-70/
DTSTART;VALUE=DATE:20260918
SUMMARY:Satolstelamanderfanz
DESCRIPTION:Satolstelamanderfanz   18.09.26 bis 20.09.26  <a href="https://www.moelln-tourismus.de/events-moelln/spektakulum-mulne/uebersicht" target="_blank" rel="noopener noreferrer">Mölln Tourismus</a>  
LOCATION:Spektakulum Mulne\, Kurpark Mölln Bergstraße\, Mölln\, \, 23879
END:VEVENT
END:VCALENDAR
