BEGIN:VCALENDAR
VERSION:2.0
PRODID:-//AudioTheme 3.0.1
BEGIN:VEVENT
UID:urn:uuid:749cbaf9-f9ff-4015-817d-ac7f2ee019cc
URL:https://musik.kristinakuenzel.de/shows/satolstelamanderfanz-68/
DTSTART;VALUE=DATE:20260731
SUMMARY:Satolstelamanderfanz
DESCRIPTION:Satolstelamanderfanz   30.07.26 bis 01.08.26  
LOCATION:Binz\, Ostseebad Binz\, \, 18609
END:VEVENT
END:VCALENDAR
