BEGIN:VCALENDAR
VERSION:2.0
PRODID:-//AudioTheme 3.0.1
BEGIN:VEVENT
UID:urn:uuid:749cbaf9-f9ff-4015-817d-ac7f2ee019cc
URL:https://musik.kristinakuenzel.de/shows/satolstelamanderfanz-65/
DTSTART;VALUE=DATE:20260807
SUMMARY:Satolstelamanderfanz
DESCRIPTION:Satolstelamanderfanz   06.08.26 bis 08.08.26  
LOCATION:Fort Kugelbake\, Cuxhaven\, 
END:VEVENT
END:VCALENDAR
