BEGIN:VCALENDAR
VERSION:2.0
PRODID:-//AudioTheme 3.0.1
BEGIN:VEVENT
UID:urn:uuid:749cbaf9-f9ff-4015-817d-ac7f2ee019cc
URL:https://musik.kristinakuenzel.de/shows/satolstelamanderfanz-61/
DTSTART;VALUE=DATE:20260711
SUMMARY:Satolstelamanderfanz
DESCRIPTION:Satolstelamanderfanz   11.07.26 bis 12.07.26  <a href="https://oberkirch.ortenaukultur.de/de/ausstellungen/detail/veranstaltung/id/583022-mittelalterliches-spectaculum-auf-der-schauenburg-zu-oberkirch/?vt=1" target="_blank" rel="noopener noreferrer">Mittelalterliches Spectaculum auf der Schauenburg zu Oberkirch</a>
LOCATION:Ruine Schauenburg\, Burgstraße 29\, Oberkirch\, \, 77704
END:VEVENT
END:VCALENDAR
