BEGIN:VCALENDAR
VERSION:2.0
PRODID:-//AudioTheme 3.0.1
BEGIN:VEVENT
UID:urn:uuid:749cbaf9-f9ff-4015-817d-ac7f2ee019cc
URL:https://musik.kristinakuenzel.de/shows/satolstelamanderfanz-38/
DTSTART;VALUE=DATE:20250720
SUMMARY:Satolstelamanderfanz
DESCRIPTION:Satolstelamanderfanz   19.07.25 bis 20.07.25  <a href="https://www.kloster-rehna.com/" target="_blank" rel="noopener noreferrer">Kloster Rehna</a>
LOCATION:Kloster Rehna\, Kirchplatz 1A\, Rehna\, 19217
END:VEVENT
END:VCALENDAR
