BEGIN:VCALENDAR
VERSION:2.0
PRODID:-//AudioTheme 3.0.1
BEGIN:VEVENT
UID:urn:uuid:749cbaf9-f9ff-4015-817d-ac7f2ee019cc
URL:https://musik.kristinakuenzel.de/shows/satolstelamanderfanz-34/
DTSTART;VALUE=DATE:20250622
SUMMARY:Satolstelamanderfanz
DESCRIPTION:Satolstelamanderfanz   21.06.25 bis 22.06.25  <a href="https://www.plattenburgspektakel.de/" target="_blank" rel="noopener noreferrer">Plattenburgspektakel</a>
LOCATION:Mittelalterliches Spektakel auf der Plattenburg\, Plattenburg\, \, 19339
END:VEVENT
END:VCALENDAR
