BEGIN:VCALENDAR
VERSION:2.0
PRODID:-//AudioTheme 3.0.1
BEGIN:VEVENT
UID:urn:uuid:749cbaf9-f9ff-4015-817d-ac7f2ee019cc
URL:https://musik.kristinakuenzel.de/shows/satolstelamanderfanz-32/
DTSTART;VALUE=DATE:20250614
SUMMARY:Satolstelamanderfanz
DESCRIPTION:Satolstelamanderfanz   13.06.25 bis 15.06.25  <a href="https://lutherstadt-wittenberg.de/veranstaltungen/stadtfest-zu-luthers-hochzeit" target="_blank" rel="noopener noreferrer">Lutherstadt Wittenberg</a>
LOCATION:Luthers Hochzeit\, Lutherstadt Wittenberg\, \, 06886
END:VEVENT
END:VCALENDAR
