BEGIN:VCALENDAR
VERSION:2.0
PRODID:-//AudioTheme 3.0.1
BEGIN:VEVENT
UID:urn:uuid:749cbaf9-f9ff-4015-817d-ac7f2ee019cc
URL:https://musik.kristinakuenzel.de/shows/satolstelamanderfanz-27/
DTSTART;VALUE=DATE:20250501
SUMMARY:Satolstelamanderfanz
DESCRIPTION:Satolstelamanderfanz   30.04.25 bis 01.05.25  <a href="https://www.fogelvrei.de" target="_blank" rel="noopener noreferrer">Fogelvrei</a>
LOCATION:Burgfest Bad Bodenteich\, Bad Bodenteich\, 
END:VEVENT
END:VCALENDAR
