BEGIN:VCALENDAR
VERSION:2.0
PRODID:-//AudioTheme 3.0.1
BEGIN:VEVENT
UID:urn:uuid:736de09e-6024-4cdf-b1c2-ecc43429706c
URL:https://musik.kristinakuenzel.de/shows/orga-2/
DTSTART;VALUE=DATE:20261018
SUMMARY:Orga
DESCRIPTION:Orga  <a href="https://nordfolkfestival.de" target="_blank" rel="noopener noreferrer">www.nordfolkfestival.de</a>
LOCATION:nord folk festival\, Goldbekhaus e.V. Zentrum für Stadtteilkultur Moorfuhrtweg 9\, Hamburg\, \, 22301
END:VEVENT
END:VCALENDAR
