BEGIN:VCALENDAR
VERSION:2.0
PRODID:-//AudioTheme 3.0.1
BEGIN:VEVENT
UID:urn:uuid:3faba9f2-c8a6-4ac5-a2a5-d33114f6dde5
URL:https://musik.kristinakuenzel.de/shows/onlinekurs-dreiklaenge-auf-dem-dudelsack-2/
DTSTART;TZID=GMT:20210213T130000
SUMMARY:Onlinekurs - Schäferpfeife für Anfänger und leicht fortgeschrittene Spieler
DESCRIPTION:Onlinekurs - Schäferpfeife für Anfänger und leicht fortgeschrittene Spieler  14:00 Uhr  <a href="mailto:info@spielkurs-muehlhausen.de" target="_blank" rel="noopener noreferrer">Informationen und Anmeldung</a>
LOCATION:Online\, Onlinekurs\, 
END:VEVENT
END:VCALENDAR
